BEGIN:VCALENDAR
VERSION:2.0
PRODID:spatie/icalendar-generator
DESCRIPTION:Events from Greater New Zion Missionary Baptist Church
X-WR-CALDESC:Events from Greater New Zion Missionary Baptist Church
REFRESH-INTERVAL;VALUE=DURATION:PT1440M
X-PUBLISHED-TTL:PT1440M
BEGIN:VTIMEZONE
TZID:Etc/GMT+0
BEGIN:STANDARD
DTSTART:20250709T083000Z
TZOFFSETFROM:+0000
TZOFFSETTO:+0000
END:STANDARD
END:VTIMEZONE
BEGIN:VTIMEZONE
TZID:UTC
BEGIN:STANDARD
DTSTART:20250727T155017Z
TZOFFSETFROM:+0000
TZOFFSETTO:+0000
END:STANDARD
END:VTIMEZONE
BEGIN:VEVENT
UID:1635-2
DTSTAMP:20260423T155017Z
SUMMARY:Sunday AM Service
LOCATION:Greater New Zion Missionary Baptist Church 109 Oak Ridge Drive  Be
 nton LA 71006
ORGANIZER;CN=Wesley Odom:MAILTO:hello@designping.co
RRULE:FREQ=WEEKLY;UNTIL=20360301T000000Z
DTSTART;TZID=Etc/GMT+0:20260405T083000
DTEND;TZID=Etc/GMT+0:20260405T100000
X-ALT-DESC;FMTTYPE=TEXT/HTML:<p>Join us for our weekly Sunday morning servi
 ce!</p>\n
CATEGORIES:General
URL;VALUE=URI:https://breadoflifebenton.com/mc-events/sunday-am-service/?mc
 _id=1635
METHOD:PUBLISH
END:VEVENT
END:VCALENDAR