BEGIN:VCALENDAR
VERSION:2.0
PRODID:spatie/icalendar-generator
DESCRIPTION:Events from Greater New Zion Missionary Baptist Church
X-WR-CALDESC:Events from Greater New Zion Missionary Baptist Church
REFRESH-INTERVAL;VALUE=DURATION:PT1440M
X-PUBLISHED-TTL:PT1440M
BEGIN:VTIMEZONE
TZID:Etc/GMT+0
BEGIN:STANDARD
DTSTART:20250723T170000Z
TZOFFSETFROM:+0000
TZOFFSETTO:+0000
END:STANDARD
END:VTIMEZONE
BEGIN:VTIMEZONE
TZID:UTC
BEGIN:STANDARD
DTSTART:20250727T155035Z
TZOFFSETFROM:+0000
TZOFFSETTO:+0000
END:STANDARD
END:VTIMEZONE
BEGIN:VEVENT
UID:2155-3
DTSTAMP:20260423T155035Z
SUMMARY:Sunday PM Service
LOCATION:Greater New Zion Missionary Baptist Church 109 Oak Ridge Drive  Be
 nton LA 71006
ORGANIZER;CN=Wesley Odom:MAILTO:hello@designping.co
RRULE:FREQ=WEEKLY;UNTIL=20360430T000000Z
DTSTART;TZID=Etc/GMT+0:20260419T170000
DTEND;TZID=Etc/GMT+0:20260419T180000
X-ALT-DESC;FMTTYPE=TEXT/HTML:<p>Join us for our weekly Sunday evening servi
 ce!</p>\n
CATEGORIES:General
URL;VALUE=URI:https://breadoflifebenton.com/mc-events/sunday-pm-service/?mc
 _id=2155
METHOD:PUBLISH
END:VEVENT
END:VCALENDAR