BEGIN:VCALENDAR
VERSION:2.0
PRODID:spatie/icalendar-generator
DESCRIPTION:Events from Greater New Zion Missionary Baptist Church
X-WR-CALDESC:Events from Greater New Zion Missionary Baptist Church
REFRESH-INTERVAL;VALUE=DURATION:PT1440M
X-PUBLISHED-TTL:PT1440M
BEGIN:VTIMEZONE
TZID:Etc/GMT+0
BEGIN:STANDARD
DTSTART:20250730T150000Z
TZOFFSETFROM:+0000
TZOFFSETTO:+0000
END:STANDARD
END:VTIMEZONE
BEGIN:VTIMEZONE
TZID:UTC
BEGIN:STANDARD
DTSTART:20250727T155542Z
TZOFFSETFROM:+0000
TZOFFSETTO:+0000
END:STANDARD
END:VTIMEZONE
BEGIN:VEVENT
UID:2679-5
DTSTAMP:20260423T155542Z
SUMMARY:Pastor's Honorarium
LOCATION:Greater New Zion Missionary Baptist Church 109 Oak Ridge Drive  Be
 nton LA 71006
ORGANIZER;CN=Randy Davis:MAILTO:randy.davis2@yahoo.com
DTSTART;TZID=Etc/GMT+0:20260426T150000
DTEND;TZID=Etc/GMT+0:20260426T170000
X-ALT-DESC;FMTTYPE=TEXT/HTML:Pastor Anderson's 37th Honorarium
CATEGORIES:General
URL;VALUE=URI:https://breadoflifebenton.com/mc-events/pastors-honorarium/
METHOD:PUBLISH
END:VEVENT
END:VCALENDAR